BEGIN:VCALENDAR
VERSION:2.0
PRODID:-//Mounting Horizons Inc. - ECPv6.15.18//NONSGML v1.0//EN
CALSCALE:GREGORIAN
METHOD:PUBLISH
X-ORIGINAL-URL:http://mhicil.org
X-WR-CALDESC:Events for Mounting Horizons Inc.
REFRESH-INTERVAL;VALUE=DURATION:PT1H
X-Robots-Tag:noindex
X-PUBLISHED-TTL:PT1H
BEGIN:VTIMEZONE
TZID:UTC
BEGIN:STANDARD
TZOFFSETFROM:+0000
TZOFFSETTO:+0000
TZNAME:UTC
DTSTART:20220101T000000
END:STANDARD
END:VTIMEZONE
BEGIN:VEVENT
DTSTART;TZID=UTC:20230821T090000
DTEND;TZID=UTC:20230821T103000
DTSTAMP:20260420T103035
CREATED:20230724T194746Z
LAST-MODIFIED:20230724T194746Z
UID:10000053-1692608400-1692613800@mhicil.org
SUMMARY:Funday Monday - Gripon Gardens at Lynns
DESCRIPTION:Participants will meet MHI staff at Gripon Gardens to experience the magic of walking through the palapa and feeling as though they have traveled through time and landed in another world. The scenic property has unique landscaping to spark your garden inspiration. They offer plants which will thrive in our “heartiness zone\,” sensory appealing water features\, and a variety of pottery pots. Participants can observe the 70 pound tortoise and colorful Koi fish being fed. Everyone is encouraged to bring either water or a cold drink to enjoy while touring the garden. Participants will acquire landscaping ideas for our region of Texas while enjoying interactions with their peers
URL:http://mhicil.org/event/funday-monday-gripon-gardens-at-lynns/
LOCATION:Gripon Gardens at Lynns\, 2060 Pecan Orchard Road\, League City\, 77573\, United States
CATEGORIES:ILS Events
ORGANIZER;CN="Darlene Shannon":MAILTO:ils@mhitx.org
END:VEVENT
BEGIN:VEVENT
DTSTART;TZID=UTC:20230807T100000
DTEND;TZID=UTC:20230807T113000
DTSTAMP:20260420T103035
CREATED:20230724T194302Z
LAST-MODIFIED:20230724T194817Z
UID:10000052-1691402400-1691407800@mhicil.org
SUMMARY:Funday Monday – Dave & Buster’s
DESCRIPTION:Participants will meet MHI staff at Dave & Buster’s for fun and games! By participating in this Funday Monday event\, participants will explore and play different games at Dave & Buster’s while socializing with their peers. Participants will be out in their community strengthening their interpersonal communication skills and reducing any feelings of isolation.
URL:http://mhicil.org/event/funday-monday-dave-busters/
LOCATION:Dave & Buster’s\, 704 Baybrook Mall Drive\, Friendswood\,\, TX\, 77546\, United States
CATEGORIES:ILS Events
ORGANIZER;CN="Darlene Shannon":MAILTO:ils@mhitx.org
END:VEVENT
BEGIN:VEVENT
DTSTART;TZID=UTC:20230803T110000
DTEND;TZID=UTC:20230803T123000
DTSTAMP:20260420T103035
CREATED:20230726T020154Z
LAST-MODIFIED:20230727T011108Z
UID:10000049-1691060400-1691065800@mhicil.org
SUMMARY:Silver Linings – Virtual Planning
DESCRIPTION:During this virtual meeting\, participants will engage in a discussion about appropriate social awareness and planning session of an exchanging ideas for upcoming meetings. The discussions will be from 11-12 and those that would to remain on and join us for a virtual lunch and social time may do so.
URL:http://mhicil.org/event/silver-linings-sweet-treat-session/
LOCATION:MHI Virtual Session
CATEGORIES:ILS Events,Peer Support
ORGANIZER;CN="Renota Shepherd":MAILTO:rshepherd@mhitx.org
END:VEVENT
BEGIN:VEVENT
DTSTART;TZID=UTC:20230724T110000
DTEND;TZID=UTC:20230724T123000
DTSTAMP:20260420T103035
CREATED:20230724T193806Z
LAST-MODIFIED:20230724T193806Z
UID:10000051-1690196400-1690201800@mhicil.org
SUMMARY:Funday Monday Natural Living Co-op & Vegan Cafe
DESCRIPTION:Participants will meet MHI staff at Natural Living Co-op & Vegan Café for lunch. The owner\, Lisa\, is a certified Raw food chef\, life coach\, and Raw nutritional councilor who has studied alternative approaches and herbs for over 25 years. Participants will enjoy the opportunity to eat at a small business specializing in allergen-free foods. For easier accessibility in the Historic District\, use the parking lot at 3rd and Michigan and enter through the back of the building. Participants will enjoy a healthy lunch\, interact with their peers out in the community\, while having the opportunity to support local gardeners and farmers.
URL:http://mhicil.org/event/funday-monday-natural-living-co-op-vegan-cafe/
LOCATION:Natural Living Co-op & Vegan Cafe\, 219 N. Michigan Ave\, League City\, TX\, 77573\, United States
CATEGORIES:ILS Events
ORGANIZER;CN="Darlene Shannon":MAILTO:ils@mhitx.org
END:VEVENT
BEGIN:VEVENT
DTSTART;TZID=UTC:20230714T104500
DTEND;TZID=UTC:20230714T114500
DTSTAMP:20260420T103035
CREATED:20230705T110102Z
LAST-MODIFIED:20230714T031901Z
UID:10000044-1689331500-1689335100@mhicil.org
SUMMARY:Mobility Management 101
DESCRIPTION:Participant will learn will learn about different public transportation options available for and around the Galveston County area and how to set up public transportation through their primary provider and connect with alternative options. Participates will be shown how to advocate on their transportation needs in varies platforms for example\, public meeting that deal with public transportation\, writing letters to local or state representatives\, voicing their ideas to funders over public transportation. An Individualized Travel Plan (ITP) will be discussed and completed and participants will leave with a list of different service providers for their specific area\, if needed an application for para transit provider for their specific area and a copy of their Individualized Travel Plan (ITP).
URL:http://mhicil.org/event/mobility-management-101-4/
LOCATION:MHI Virtual Session
CATEGORIES:Transportation
ORGANIZER;CN="Nykole Murray":MAILTO:nmurray@mhitx.org
END:VEVENT
BEGIN:VEVENT
DTSTART;TZID=UTC:20230713T140000
DTEND;TZID=UTC:20230713T150000
DTSTAMP:20260420T103035
CREATED:20230705T105700Z
LAST-MODIFIED:20230705T105708Z
UID:10000043-1689256800-1689260400@mhicil.org
SUMMARY:Cooking Class – Rice Krispies Treats
DESCRIPTION:Participant will practice their cooking skills by helping make Rice Krispies Treats for dessert. They will review the recipe before starting the cooking process\, gather and measure ingredients\, follow recipe steps\, and clean-up directions. Participant will get to taste their finished product and take home a copy of the step-by-step recipe (including clean-up directions). This will enable the individual to be better equipped for independently using the microwave to make dessert.
URL:http://mhicil.org/event/cooking-class-rice-krispies-treats/
LOCATION:Hometown Heroes Park\, 1001 E League City Pkwy\, League City\, TX\, 77573\, United States
CATEGORIES:ILS Events
ORGANIZER;CN="Darlene Shannon":MAILTO:ils@mhitx.org
END:VEVENT
BEGIN:VEVENT
DTSTART;TZID=UTC:20230710T103000
DTEND;TZID=UTC:20230710T123000
DTSTAMP:20260420T103035
CREATED:20230705T104831Z
LAST-MODIFIED:20230705T104831Z
UID:10000041-1688985000-1688992200@mhicil.org
SUMMARY:Funday Monday - Pizza & Games
DESCRIPTION:This event will reduce feelings of isolation while connecting with their peers and discussing available vaccines. The consumer will enjoy eating pizza and playing games with their peers. Bring your own drink and meet at Mounting Horizons.
URL:http://mhicil.org/event/funday-monday-pizza-games/
LOCATION:Mounting Horizons Inc.\, 1300 Bay Area Blvd\, Houston\, TX\, 77058\, United States
CATEGORIES:ILS Events
ORGANIZER;CN="Darlene Shannon":MAILTO:ils@mhitx.org
END:VEVENT
BEGIN:VEVENT
DTSTART;TZID=UTC:20230705T100000
DTEND;TZID=UTC:20230705T170000
DTSTAMP:20260420T103035
CREATED:20230601T032233Z
LAST-MODIFIED:20230704T103314Z
UID:10000038-1688551200-1688576400@mhicil.org
SUMMARY:Colorado Rockies vs Houston Astros
DESCRIPTION:Join Mounting Horizons on July 5th for the Colorado Rockies vs Houston Astros at Minute Maid Park\, as we celebrate Independence Day. By participating in this event\, participants will get to celebrate together with their peers\, cheer on the Astros at a home game\, and be able to celebrate Independence Day in a fun-filled and exciting event! Registered attendees will meet at 1300 Bay Area Blvd\, Houston TX 77058 (behind Building B) at 10:00AM and return to the location at 5:00PM for pickup. Attendees must provide their own transportation to and from the pickup location.
URL:http://mhicil.org/event/colorado-rockies-vs-houston-astros/
LOCATION:Minute Maid Park\, 501 Crawford St\,\, Houston\, TX\, 77002\, United States
CATEGORIES:ILS Events
ORGANIZER;CN="Darlene Shannon":MAILTO:ils@mhitx.org
END:VEVENT
BEGIN:VEVENT
DTSTART;TZID=UTC:20230622T100000
DTEND;TZID=UTC:20230622T113000
DTSTAMP:20260420T103035
CREATED:20230613T031636Z
LAST-MODIFIED:20230613T031636Z
UID:10000039-1687428000-1687433400@mhicil.org
SUMMARY:Silver Linings; Bring A Friend Bingo
DESCRIPTION:MHI staff invite you to join us for our next Silver Linings Peer Support meeting on June 22nd from 10AM-11:30AM. Feel free to invite a friend to come and join the group as participants play a few rounds of bingo while enjoying delicious treats! This Silver Linings meeting will take place at Helen Hall Library\, located at 100 W Walker St.\, League City\, TX 77573.
URL:http://mhicil.org/event/silver-linings-bring-a-friend-bingo/
LOCATION:Helen Hall Library\, 100 W. Walker\, League City\, TX\, 77573\, United States
CATEGORIES:Peer Support
ORGANIZER;CN="Darlene Shannon":MAILTO:ils@mhitx.org
END:VEVENT
BEGIN:VEVENT
DTSTART;TZID=UTC:20230621T131500
DTEND;TZID=UTC:20230621T143000
DTSTAMP:20260420T103035
CREATED:20230613T032048Z
LAST-MODIFIED:20230613T032048Z
UID:10000037-1687353300-1687357800@mhicil.org
SUMMARY:Cerebral Palsy Support Group Summer is Here
DESCRIPTION:Consumers/Participants will discuss and obtain an understanding of the challenges and effects the summer heat has on an individual with cerebral palsy and talk about ways of staying cool and healthy during the summer season.
URL:http://mhicil.org/event/cerebral-palsy-support-group-summer-is-here/
LOCATION:MHI Virtual Session
CATEGORIES:Peer Support
ORGANIZER;CN="Renota Shepherd":MAILTO:rshepherd@mhitx.org
END:VEVENT
BEGIN:VEVENT
DTSTART;TZID=UTC:20230615T080000
DTEND;TZID=UTC:20230615T150000
DTSTAMP:20260420T103035
CREATED:20230601T034246Z
LAST-MODIFIED:20230609T080429Z
UID:10000036-1686816000-1686841200@mhicil.org
SUMMARY:Brookwood Community Trip
DESCRIPTION:Consumers/Participants will travel to the Brookwood Community to tour their facility and become knowledgeable about how it got started as well as the different programs and services they offer. We will also have lunch at the café and enjoy some shopping in the gift shop.
URL:http://mhicil.org/event/brookwood-community-trip/
LOCATION:Brookwod Community\, 1752 FM 1489\, Brookshire\, TX\, 77423\, United States
CATEGORIES:ILS Events
ORGANIZER;CN="Darlene Shannon":MAILTO:ils@mhitx.org
END:VEVENT
BEGIN:VEVENT
DTSTART;TZID=UTC:20230612T130000
DTEND;TZID=UTC:20230612T143000
DTSTAMP:20260420T103035
CREATED:20230525T232413Z
LAST-MODIFIED:20230526T030010Z
UID:10000034-1686574800-1686580200@mhicil.org
SUMMARY:Funday Monday – Bay Area Raceway
DESCRIPTION:Meet MHI at Bay Area Raceway in Dickinson for Funday Monday! The consumer will engage in activities like racing go-karts\, arcade games\, and laser tag! Participating in this activity will help the consumer reduce feelings of isolation\, have an opportunity to connect with their peers\, and experience a blast out in their community!
URL:http://mhicil.org/event/funday-monday-bay-area-raceway/
LOCATION:Bay Area Raceway\, 3825 Gulf Frwy\, Dickinson\, TX\, 77539\, United States
CATEGORIES:ILS Events
ORGANIZER;CN="Darlene Shannon":MAILTO:ils@mhitx.org
END:VEVENT
BEGIN:VEVENT
DTSTART;TZID=UTC:20230605T083000
DTEND;TZID=UTC:20230605T143000
DTSTAMP:20260420T103035
CREATED:20230525T221406Z
LAST-MODIFIED:20230530T210344Z
UID:10000031-1685953800-1685975400@mhicil.org
SUMMARY:Funday Monday – Trip to Bolivar Peninsula
DESCRIPTION:Participants will join MHI for a trip to Fort Travis on Bolivar Peninsula this Funday Monday! Consumers will venture to the Bolivar Peninsula on the Galveston Ferry\, followed by a visit to historic Fort Travis Seashore Park where they will enjoy a picnic with their peers. By participating in this event\, the participant will get to learn more about Galveston’s rich history and involvement in World War II while connecting with other members of their community.
URL:http://mhicil.org/event/funday-monday-trip-to-boliver-peninsula/
LOCATION:Boliver Peninsula\, 900 TX-87\, Port Bolivar\, Texas\, 77650
CATEGORIES:ILS Events
ORGANIZER;CN="Darlene Shannon":MAILTO:ils@mhitx.org
END:VEVENT
BEGIN:VEVENT
DTSTART;TZID=UTC:20230524T131500
DTEND;TZID=UTC:20230524T141500
DTSTAMP:20260420T103035
CREATED:20230512T002608Z
LAST-MODIFIED:20230523T200412Z
UID:10000026-1684934100-1684937700@mhicil.org
SUMMARY:Youth Advisory Council Meeting
DESCRIPTION:Participant will hear feedback from advocates about the findings on doors for local restaurants\, stores\, and medical facilities and create an action plan for advocating for modifications to any doors that do not meet ADA requirements. By hearing from advocates and creating an action plan as a group\, the consumer will be able to strengthen skills relating to advocacy and teamwork\, while also getting hands-on experience with advocating for change within their local community
URL:http://mhicil.org/event/youth-advisory-council-meeting/
CATEGORIES:Peer Support
ORGANIZER;CN="Ashley Newell":MAILTO:anewell@mhitx.org
END:VEVENT
BEGIN:VEVENT
DTSTART;TZID=UTC:20230522T110000
DTEND;TZID=UTC:20230522T123000
DTSTAMP:20260420T103035
CREATED:20230519T184355Z
LAST-MODIFIED:20230519T184355Z
UID:10000030-1684753200-1684758600@mhicil.org
SUMMARY:Funday Monday Picnic
DESCRIPTION:It’s Monday-Funday! Consumer will join their peers in a social event at Baybrook Mall\, taking a walk through the indoor and outdoor sections\, with the event finishing in a picnic. By participating in the event\, the consumer will be able to participate in a social and mild physical recreation activity\, while also getting to strengthen friendships with their peers.
URL:http://mhicil.org/event/funday-monday-picnic/
ORGANIZER;CN="Darlene Shannon":MAILTO:ils@mhitx.org
END:VEVENT
BEGIN:VEVENT
DTSTART;TZID=UTC:20230512T090000
DTEND;TZID=UTC:20230512T143000
DTSTAMP:20260420T103035
CREATED:20230409T081905Z
LAST-MODIFIED:20230425T031204Z
UID:10000024-1683882000-1683901800@mhicil.org
SUMMARY:Lago Mar- LagoonFest
DESCRIPTION:It’s time for some rest and relaxation at Lago Mar Waterpark in Texas City! The consumer will be able to relax in the cool water of the pool and can engage in crafts and games as they like. Lunch will be provided and vendors will provide a mini resource fair during the beginning part of the event that will highlight services beneficial to the local disability community. By participating in this event\, the consumer will have reduced feelings of isolation and be able to connect with peers for socialization and fun!
URL:http://mhicil.org/event/lago-mar-lagoon-fest/
LOCATION:Largo Mar\, 12930 Crystal View Blvd.\, Lamarque\, TX\, 77568\, United States
CATEGORIES:ILS Events
ORGANIZER;CN="Ashley Newell":MAILTO:anewell@mhitx.org
END:VEVENT
BEGIN:VEVENT
DTSTART;TZID=UTC:20230426T131500
DTEND;TZID=UTC:20230426T141500
DTSTAMP:20260420T103035
CREATED:20230409T072135Z
LAST-MODIFIED:20230409T072135Z
UID:10000022-1682514900-1682518500@mhicil.org
SUMMARY:Youth Advisory Council
DESCRIPTION:Participant will hear feedback from advocates about the findings on doors for local restaurants\, stores\, and medical facilities and create an action plan for advocating for modifications to any doors that do not meet ADA requirements. By hearing from advocates and creating an action plan as a group\, the consumer will be able to strengthen skills relating to advocacy and teamwork\, while also getting hands-on experience with advocating for change within their local community.
URL:http://mhicil.org/event/youth-advisory-council/
LOCATION:MHI Virtual Session
CATEGORIES:Youth Services
ORGANIZER;CN="Ashley Newell":MAILTO:anewell@mhitx.org
END:VEVENT
BEGIN:VEVENT
DTSTART;TZID=UTC:20230424T083000
DTEND;TZID=UTC:20230424T100000
DTSTAMP:20260420T103035
CREATED:20230409T071315Z
LAST-MODIFIED:20230409T071315Z
UID:10000021-1682325000-1682330400@mhicil.org
SUMMARY:Youth Transition Program – Navigating Your Options
DESCRIPTION:Dickinson High School young adults will hear from a variety of presenters from local colleges that are disability friendly and from other youth active in internships\, to help them make informed decisions about their path after high school. Also present will be Volunteer Coordinators from multiple community organizations that often have young adult volunteers\, to help those individuals navigate non-career focused options. By presenting in this event\, participant will have increased confidence in preparing for their future after high school.
URL:http://mhicil.org/event/youth-transition-program-navigating-your-options/
LOCATION:MHI Virtual Session
ORGANIZER;CN="Ashley Newell":MAILTO:anewell@mhitx.org
END:VEVENT
BEGIN:VEVENT
DTSTART;TZID=UTC:20230417T083000
DTEND;TZID=UTC:20230417T093000
DTSTAMP:20260420T103035
CREATED:20230409T030506Z
LAST-MODIFIED:20230409T030506Z
UID:10000014-1681720200-1681723800@mhicil.org
SUMMARY:Youth Transition Program – Preparing for Life after High School
DESCRIPTION:Young adults from Dickinson High Schools will engage in a game that will allow them to practice navigating postsecondary options such as:  apprenticeships\, trade schools\, and colleges that could prepare them for future jobs/careers. Consumer will briefly review how their communication passport can be used as a tool for self-advocacy when requesting accommodations in post-secondary spaces. We will also discuss options such as internships and volunteering and how those can also be ways to increase one’s skills and prepare young adults for future work or other goals. By participating in this training\, the consumer will have increased confidence in navigating their choices after they graduate high school.
URL:http://mhicil.org/event/youth-transition-program-preparing-for-life-after-high-school/
LOCATION:Dickison High School
ORGANIZER;CN="Ashley Newell":MAILTO:anewell@mhitx.org
END:VEVENT
END:VCALENDAR