BEGIN:VCALENDAR
VERSION:2.0
PRODID:-//Mounting Horizons Inc. - ECPv6.15.18//NONSGML v1.0//EN
CALSCALE:GREGORIAN
METHOD:PUBLISH
X-ORIGINAL-URL:http://mhicil.org
X-WR-CALDESC:Events for Mounting Horizons Inc.
REFRESH-INTERVAL;VALUE=DURATION:PT1H
X-Robots-Tag:noindex
X-PUBLISHED-TTL:PT1H
BEGIN:VTIMEZONE
TZID:UTC
BEGIN:STANDARD
TZOFFSETFROM:+0000
TZOFFSETTO:+0000
TZNAME:UTC
DTSTART:20220101T000000
END:STANDARD
END:VTIMEZONE
BEGIN:VEVENT
DTSTART;TZID=UTC:20230605T083000
DTEND;TZID=UTC:20230605T143000
DTSTAMP:20260420T114818
CREATED:20230525T221406Z
LAST-MODIFIED:20230530T210344Z
UID:10000031-1685953800-1685975400@mhicil.org
SUMMARY:Funday Monday – Trip to Bolivar Peninsula
DESCRIPTION:Participants will join MHI for a trip to Fort Travis on Bolivar Peninsula this Funday Monday! Consumers will venture to the Bolivar Peninsula on the Galveston Ferry\, followed by a visit to historic Fort Travis Seashore Park where they will enjoy a picnic with their peers. By participating in this event\, the participant will get to learn more about Galveston’s rich history and involvement in World War II while connecting with other members of their community.
URL:http://mhicil.org/event/funday-monday-trip-to-boliver-peninsula/
LOCATION:Boliver Peninsula\, 900 TX-87\, Port Bolivar\, Texas\, 77650
CATEGORIES:ILS Events
ORGANIZER;CN="Darlene Shannon":MAILTO:ils@mhitx.org
END:VEVENT
BEGIN:VEVENT
DTSTART;TZID=UTC:20230524T131500
DTEND;TZID=UTC:20230524T141500
DTSTAMP:20260420T114818
CREATED:20230512T002608Z
LAST-MODIFIED:20230523T200412Z
UID:10000026-1684934100-1684937700@mhicil.org
SUMMARY:Youth Advisory Council Meeting
DESCRIPTION:Participant will hear feedback from advocates about the findings on doors for local restaurants\, stores\, and medical facilities and create an action plan for advocating for modifications to any doors that do not meet ADA requirements. By hearing from advocates and creating an action plan as a group\, the consumer will be able to strengthen skills relating to advocacy and teamwork\, while also getting hands-on experience with advocating for change within their local community
URL:http://mhicil.org/event/youth-advisory-council-meeting/
CATEGORIES:Peer Support
ORGANIZER;CN="Ashley Newell":MAILTO:anewell@mhitx.org
END:VEVENT
BEGIN:VEVENT
DTSTART;TZID=UTC:20230522T110000
DTEND;TZID=UTC:20230522T123000
DTSTAMP:20260420T114818
CREATED:20230519T184355Z
LAST-MODIFIED:20230519T184355Z
UID:10000030-1684753200-1684758600@mhicil.org
SUMMARY:Funday Monday Picnic
DESCRIPTION:It’s Monday-Funday! Consumer will join their peers in a social event at Baybrook Mall\, taking a walk through the indoor and outdoor sections\, with the event finishing in a picnic. By participating in the event\, the consumer will be able to participate in a social and mild physical recreation activity\, while also getting to strengthen friendships with their peers.
URL:http://mhicil.org/event/funday-monday-picnic/
ORGANIZER;CN="Darlene Shannon":MAILTO:ils@mhitx.org
END:VEVENT
BEGIN:VEVENT
DTSTART;TZID=UTC:20230512T090000
DTEND;TZID=UTC:20230512T143000
DTSTAMP:20260420T114818
CREATED:20230409T081905Z
LAST-MODIFIED:20230425T031204Z
UID:10000024-1683882000-1683901800@mhicil.org
SUMMARY:Lago Mar- LagoonFest
DESCRIPTION:It’s time for some rest and relaxation at Lago Mar Waterpark in Texas City! The consumer will be able to relax in the cool water of the pool and can engage in crafts and games as they like. Lunch will be provided and vendors will provide a mini resource fair during the beginning part of the event that will highlight services beneficial to the local disability community. By participating in this event\, the consumer will have reduced feelings of isolation and be able to connect with peers for socialization and fun!
URL:http://mhicil.org/event/lago-mar-lagoon-fest/
LOCATION:Largo Mar\, 12930 Crystal View Blvd.\, Lamarque\, TX\, 77568\, United States
CATEGORIES:ILS Events
ORGANIZER;CN="Ashley Newell":MAILTO:anewell@mhitx.org
END:VEVENT
BEGIN:VEVENT
DTSTART;TZID=UTC:20230426T131500
DTEND;TZID=UTC:20230426T141500
DTSTAMP:20260420T114818
CREATED:20230409T072135Z
LAST-MODIFIED:20230409T072135Z
UID:10000022-1682514900-1682518500@mhicil.org
SUMMARY:Youth Advisory Council
DESCRIPTION:Participant will hear feedback from advocates about the findings on doors for local restaurants\, stores\, and medical facilities and create an action plan for advocating for modifications to any doors that do not meet ADA requirements. By hearing from advocates and creating an action plan as a group\, the consumer will be able to strengthen skills relating to advocacy and teamwork\, while also getting hands-on experience with advocating for change within their local community.
URL:http://mhicil.org/event/youth-advisory-council/
LOCATION:MHI Virtual Session
CATEGORIES:Youth Services
ORGANIZER;CN="Ashley Newell":MAILTO:anewell@mhitx.org
END:VEVENT
BEGIN:VEVENT
DTSTART;TZID=UTC:20230424T083000
DTEND;TZID=UTC:20230424T100000
DTSTAMP:20260420T114818
CREATED:20230409T071315Z
LAST-MODIFIED:20230409T071315Z
UID:10000021-1682325000-1682330400@mhicil.org
SUMMARY:Youth Transition Program – Navigating Your Options
DESCRIPTION:Dickinson High School young adults will hear from a variety of presenters from local colleges that are disability friendly and from other youth active in internships\, to help them make informed decisions about their path after high school. Also present will be Volunteer Coordinators from multiple community organizations that often have young adult volunteers\, to help those individuals navigate non-career focused options. By presenting in this event\, participant will have increased confidence in preparing for their future after high school.
URL:http://mhicil.org/event/youth-transition-program-navigating-your-options/
LOCATION:MHI Virtual Session
ORGANIZER;CN="Ashley Newell":MAILTO:anewell@mhitx.org
END:VEVENT
BEGIN:VEVENT
DTSTART;TZID=UTC:20230417T083000
DTEND;TZID=UTC:20230417T093000
DTSTAMP:20260420T114818
CREATED:20230409T030506Z
LAST-MODIFIED:20230409T030506Z
UID:10000014-1681720200-1681723800@mhicil.org
SUMMARY:Youth Transition Program – Preparing for Life after High School
DESCRIPTION:Young adults from Dickinson High Schools will engage in a game that will allow them to practice navigating postsecondary options such as:  apprenticeships\, trade schools\, and colleges that could prepare them for future jobs/careers. Consumer will briefly review how their communication passport can be used as a tool for self-advocacy when requesting accommodations in post-secondary spaces. We will also discuss options such as internships and volunteering and how those can also be ways to increase one’s skills and prepare young adults for future work or other goals. By participating in this training\, the consumer will have increased confidence in navigating their choices after they graduate high school.
URL:http://mhicil.org/event/youth-transition-program-preparing-for-life-after-high-school/
LOCATION:Dickison High School
ORGANIZER;CN="Ashley Newell":MAILTO:anewell@mhitx.org
END:VEVENT
END:VCALENDAR