BEGIN:VCALENDAR
VERSION:2.0
PRODID:-//Mounting Horizons Inc. - ECPv6.15.18//NONSGML v1.0//EN
CALSCALE:GREGORIAN
METHOD:PUBLISH
X-ORIGINAL-URL:http://mhicil.org
X-WR-CALDESC:Events for Mounting Horizons Inc.
REFRESH-INTERVAL;VALUE=DURATION:PT1H
X-Robots-Tag:noindex
X-PUBLISHED-TTL:PT1H
BEGIN:VTIMEZONE
TZID:America/Chicago
BEGIN:DAYLIGHT
TZOFFSETFROM:-0600
TZOFFSETTO:-0500
TZNAME:CDT
DTSTART:20230312T080000
END:DAYLIGHT
BEGIN:STANDARD
TZOFFSETFROM:-0500
TZOFFSETTO:-0600
TZNAME:CST
DTSTART:20231105T070000
END:STANDARD
BEGIN:DAYLIGHT
TZOFFSETFROM:-0600
TZOFFSETTO:-0500
TZNAME:CDT
DTSTART:20240310T080000
END:DAYLIGHT
BEGIN:STANDARD
TZOFFSETFROM:-0500
TZOFFSETTO:-0600
TZNAME:CST
DTSTART:20241103T070000
END:STANDARD
BEGIN:DAYLIGHT
TZOFFSETFROM:-0600
TZOFFSETTO:-0500
TZNAME:CDT
DTSTART:20250309T080000
END:DAYLIGHT
BEGIN:STANDARD
TZOFFSETFROM:-0500
TZOFFSETTO:-0600
TZNAME:CST
DTSTART:20251102T070000
END:STANDARD
END:VTIMEZONE
BEGIN:VEVENT
DTSTART;TZID=America/Chicago:20241005T100000
DTEND;TZID=America/Chicago:20241005T120000
DTSTAMP:20260421T102634
CREATED:20240827T220044Z
LAST-MODIFIED:20240827T220044Z
UID:10000232-1728122400-1728129600@mhicil.org
SUMMARY:Advocacy Workshop: Housing Rights
DESCRIPTION:Did you know that October 1st was International Tenants’ Day? Our October Workshop is all about your rights as a renter\, the Fair Housing Act\, and resources for if you find you need rent/utility assistance\, eviction prevention assistance\, or want information on Home Buyer programs for first time or low-income buyers. We’ll have guest speaker(s) presenting and will offer light refreshments and snacks for attendees. Join us and learn how to protect your rights to housing!
URL:http://mhicil.org/event/advocacy-workshop-housing-rights/
LOCATION:Rosenberg Library\, 2310 Sealy Ave\, Galveston\, TX\, 77550\, United States
CATEGORIES:Advocacy
ORGANIZER;CN="Ashley Newell":MAILTO:anewell@mhitx.org
END:VEVENT
END:VCALENDAR