BEGIN:VCALENDAR
VERSION:2.0
PRODID:-//Mounting Horizons Inc. - ECPv6.15.18//NONSGML v1.0//EN
CALSCALE:GREGORIAN
METHOD:PUBLISH
X-WR-CALNAME:Mounting Horizons Inc.
X-ORIGINAL-URL:http://mhicil.org
X-WR-CALDESC:Events for Mounting Horizons Inc.
REFRESH-INTERVAL;VALUE=DURATION:PT1H
X-Robots-Tag:noindex
X-PUBLISHED-TTL:PT1H
BEGIN:VTIMEZONE
TZID:America/Chicago
BEGIN:DAYLIGHT
TZOFFSETFROM:-0600
TZOFFSETTO:-0500
TZNAME:CDT
DTSTART:20230312T080000
END:DAYLIGHT
BEGIN:STANDARD
TZOFFSETFROM:-0500
TZOFFSETTO:-0600
TZNAME:CST
DTSTART:20231105T070000
END:STANDARD
BEGIN:DAYLIGHT
TZOFFSETFROM:-0600
TZOFFSETTO:-0500
TZNAME:CDT
DTSTART:20240310T080000
END:DAYLIGHT
BEGIN:STANDARD
TZOFFSETFROM:-0500
TZOFFSETTO:-0600
TZNAME:CST
DTSTART:20241103T070000
END:STANDARD
BEGIN:DAYLIGHT
TZOFFSETFROM:-0600
TZOFFSETTO:-0500
TZNAME:CDT
DTSTART:20250309T080000
END:DAYLIGHT
BEGIN:STANDARD
TZOFFSETFROM:-0500
TZOFFSETTO:-0600
TZNAME:CST
DTSTART:20251102T070000
END:STANDARD
END:VTIMEZONE
BEGIN:VEVENT
DTSTART;TZID=America/Chicago:20240402T093000
DTEND;TZID=America/Chicago:20240402T103000
DTSTAMP:20260423T093834
CREATED:20240326T170646Z
LAST-MODIFIED:20240326T170646Z
UID:10000141-1712050200-1712053800@mhicil.org
SUMMARY:Youth Transition Program  – Exploring Life After High School I
DESCRIPTION:Youth attending Friendswood High School will get to dive into a game called the “College Fit” game\, where they get to see what it is like to make decisions on vocational goals after high school\, navigate the process of going to college for further education\, and the types of careers they could receive with a degree. By participating in the game\, participants will get hands on experience with implementing SMART goals in a fun format and be able to explore interests and new ideas relating to possible future choices for themselves.
URL:http://mhicil.org/event/youth-transition-program-exploring-life-after-high-school-i/
LOCATION:Friendswood High School\, 402 Laurel Dr.\, Friendswood\, TX\, 77546\, United States
CATEGORIES:Youth Services
ORGANIZER;CN="Ashley Newell":MAILTO:anewell@mhitx.org
END:VEVENT
BEGIN:VEVENT
DTSTART;TZID=America/Chicago:20240410T071500
DTEND;TZID=America/Chicago:20240410T081500
DTSTAMP:20260423T093834
CREATED:20240326T192327Z
LAST-MODIFIED:20240326T192327Z
UID:10000169-1712733300-1712736900@mhicil.org
SUMMARY:Cooking Class – Texas City HS
DESCRIPTION:Participant will practice their using a George Foreman Grill to make their own customized Panini Sandwich. They will review the recipe and steps before starting the process\, gather ingredients\, and clean up directions. Participant will get to choose their own ingredients for their Panini Sandwich\, taste their finished product\, and take home a copy of the step-by-step recipe/process (including clean-up directions) if wanted. This will enable the individual to be better equipped to independently use a George Foreman Grill to make a Lunch\, Dinner\, or Snack.
URL:http://mhicil.org/event/cooking-class-texas-city-hs/
LOCATION:Texas City High School\, 1431 9th Ave N\, Texas City\, TX\, 77590\, United States
CATEGORIES:Youth Services
ORGANIZER;CN="Darlene Shannon":MAILTO:ils@mhitx.org
END:VEVENT
BEGIN:VEVENT
DTSTART;TZID=America/Chicago:20240415T100000
DTEND;TZID=America/Chicago:20240415T110000
DTSTAMP:20260423T093834
CREATED:20240326T173236Z
LAST-MODIFIED:20240326T173236Z
UID:10000152-1713175200-1713178800@mhicil.org
SUMMARY:Youth Transition Program – Exploring Life After High School I
DESCRIPTION:Youth at Clear Brook HS will get to dive into a game called the “College Fit” game\, where they get to see what it is like to make decisions on vocational goals after high school\, navigate the process of going to college for further education\, and the types of careers they could receive with a degree. By participating in the game\, participants will get hands on experience with implementing SMART goals in a fun format and be able to explore interests and new ideas relating to possible future choices for themselves.
URL:http://mhicil.org/event/youth-transition-program-exploring-life-after-high-school-i-2/
LOCATION:League City Civic Center\, 400 W. Walker\, League City\, TX\, 77573\, United States
CATEGORIES:Youth Services
ORGANIZER;CN="Ashley Newell":MAILTO:anewell@mhitx.org
END:VEVENT
BEGIN:VEVENT
DTSTART;TZID=America/Chicago:20240416T093000
DTEND;TZID=America/Chicago:20240416T103000
DTSTAMP:20260423T093834
CREATED:20240326T173524Z
LAST-MODIFIED:20240326T173524Z
UID:10000153-1713259800-1713263400@mhicil.org
SUMMARY:Youth Transition Program – Exploring Life After High School II
DESCRIPTION:Youth at Friendswood HS will get to dive into another game as a group\, called Adulting 101\, where they will get to practice skills such as: budgeting for one’s needs\, picking a career based off of interests and expenses\, and other daily living tasks that might be required of them in the future as independent adults. By practicing these skills in a fun format with their peers\, participants will have increased knowledge and understanding of what adult responsibilities outside of a school setting look like and be better prepared for setting up goals for their own futures with their loved ones.
URL:http://mhicil.org/event/youth-transition-program-exploring-life-after-high-school-ii/
LOCATION:Friendswood High School\, 402 Laurel Dr.\, Friendswood\, TX\, 77546\, United States
CATEGORIES:Youth Services
ORGANIZER;CN="Ashley Newell":MAILTO:anewell@mhitx.org
END:VEVENT
BEGIN:VEVENT
DTSTART;TZID=America/Chicago:20240416T123000
DTEND;TZID=America/Chicago:20240416T133000
DTSTAMP:20260423T093834
CREATED:20240326T192652Z
LAST-MODIFIED:20240327T155435Z
UID:10000171-1713270600-1713274200@mhicil.org
SUMMARY:Cooking Class - CCISD Clear Falls
DESCRIPTION:Participant will practice their using a George Foreman Grill to make their own customized Panini Sandwich. They will review the recipe and steps before starting the process\, gather ingredients\, and clean up directions. Participant will get to choose their own ingredients for their Panini Sandwich\, taste their finished product\, and take home a copy of the step-by-step recipe/process (including clean-up directions) if wanted. This will enable the individual to be better equipped to independently use a George Foreman Grill to make a Lunch\, Dinner\, or Snack.
URL:http://mhicil.org/event/cooking-class-ccisd-clear-falls-2/
LOCATION:Clear Falls High School\, 4380 Village Way\, League City\, TX\, 77573\, United States
CATEGORIES:Youth Services
ORGANIZER;CN="Darlene Shannon":MAILTO:ils@mhitx.org
END:VEVENT
BEGIN:VEVENT
DTSTART;TZID=America/Chicago:20240424T110000
DTEND;TZID=America/Chicago:20240424T120000
DTSTAMP:20260423T093834
CREATED:20240326T193030Z
LAST-MODIFIED:20240326T193030Z
UID:10000172-1713956400-1713960000@mhicil.org
SUMMARY:Cooking Class – La Marque HS
DESCRIPTION:Participant will practice their using a George Foreman Grill to make their own customized Panini Sandwich. They will review the recipe and steps before starting the process\, gather ingredients\, and clean up directions. Participant will get to choose their own ingredients for their Panini Sandwich\, taste their finished product\, and take home a copy of the step-by-step recipe/process (including clean-up directions) if wanted. This will enable the individual to be better equipped to independently use a George Foreman Grill to make a Lunch\, Dinner\, or Snack.
URL:http://mhicil.org/event/cooking-class-la-marque-hs/
LOCATION:La Marque High School\, 397 Duroux Road\, La\, Marque\, 77568\, United States
CATEGORIES:Youth Services
ORGANIZER;CN="Darlene Shannon":MAILTO:ils@mhitx.org
END:VEVENT
BEGIN:VEVENT
DTSTART;TZID=America/Chicago:20240429T100000
DTEND;TZID=America/Chicago:20240429T110000
DTSTAMP:20260423T093834
CREATED:20240326T174311Z
LAST-MODIFIED:20240326T194500Z
UID:10000158-1714384800-1714388400@mhicil.org
SUMMARY:Youth Transition Program – Exploring Life After High School II Clear Brook HS
DESCRIPTION:Youth at Clear Brook HS will dive into another game as a group\, called Adulting 101\, where they will get to practice skills such as: budgeting for one’s needs\, picking a career based off of interests and expenses\, and other daily living tasks that might be required of them in the future as independent adults. By practicing these skills in a fun format with their peers\, participants will have increased knowledge and understanding of what adult responsibilities outside of a school setting look like and be better prepared for setting up goals for their own futures with their loved ones. \n 
URL:http://mhicil.org/event/youth-transition-program-exploring-life-after-high-school-ii-2/
LOCATION:League City Civic Center\, 400 W. Walker\, League City\, TX\, 77573\, United States
CATEGORIES:Youth Services
ORGANIZER;CN="Ashley Newell":MAILTO:anewell@mhitx.org
END:VEVENT
END:VCALENDAR