BEGIN:VCALENDAR
VERSION:2.0
PRODID:-//Mounting Horizons Inc. - ECPv6.15.18//NONSGML v1.0//EN
CALSCALE:GREGORIAN
METHOD:PUBLISH
X-ORIGINAL-URL:http://mhicil.org
X-WR-CALDESC:Events for Mounting Horizons Inc.
REFRESH-INTERVAL;VALUE=DURATION:PT1H
X-Robots-Tag:noindex
X-PUBLISHED-TTL:PT1H
BEGIN:VTIMEZONE
TZID:America/Chicago
BEGIN:DAYLIGHT
TZOFFSETFROM:-0600
TZOFFSETTO:-0500
TZNAME:CDT
DTSTART:20230312T080000
END:DAYLIGHT
BEGIN:STANDARD
TZOFFSETFROM:-0500
TZOFFSETTO:-0600
TZNAME:CST
DTSTART:20231105T070000
END:STANDARD
BEGIN:DAYLIGHT
TZOFFSETFROM:-0600
TZOFFSETTO:-0500
TZNAME:CDT
DTSTART:20240310T080000
END:DAYLIGHT
BEGIN:STANDARD
TZOFFSETFROM:-0500
TZOFFSETTO:-0600
TZNAME:CST
DTSTART:20241103T070000
END:STANDARD
BEGIN:DAYLIGHT
TZOFFSETFROM:-0600
TZOFFSETTO:-0500
TZNAME:CDT
DTSTART:20250309T080000
END:DAYLIGHT
BEGIN:STANDARD
TZOFFSETFROM:-0500
TZOFFSETTO:-0600
TZNAME:CST
DTSTART:20251102T070000
END:STANDARD
END:VTIMEZONE
BEGIN:VEVENT
DTSTART;TZID=America/Chicago:20240507T123000
DTEND;TZID=America/Chicago:20240507T133000
DTSTAMP:20260423T062741
CREATED:20240326T192508Z
LAST-MODIFIED:20240326T192508Z
UID:10000170-1715085000-1715088600@mhicil.org
SUMMARY:Cooking Class Clear Falls HS – Spaghetti Salad 
DESCRIPTION:Youth from Clear Falls HS will practice their knife skills and using the microwave to make a Spaghetti Salad. They will review the steps before starting the cooking process\, gather and measure ingredients\, and clean up directions. Participant will get to taste their finished product and take home a copy of the step-by-step recipe (including clean-up directions) if wanted. This will enable the individual to be better equipped for independently using a knife and the microwave to make a Lunch\, Dinner\, or Side Dish. \n 
URL:http://mhicil.org/event/cooking-class-clear-falls-hs-spaghetti-salad/
LOCATION:Clear Falls High School\, 4380 Village Way\, League City\, TX\, 77573\, United States
CATEGORIES:Youth Services
ORGANIZER;CN="Darlene Shannon":MAILTO:ils@mhitx.org
END:VEVENT
BEGIN:VEVENT
DTSTART;TZID=America/Chicago:20240508T071500
DTEND;TZID=America/Chicago:20240508T081500
DTSTAMP:20260423T062741
CREATED:20240326T192251Z
LAST-MODIFIED:20240327T155245Z
UID:10000168-1715152500-1715156100@mhicil.org
SUMMARY:Cooking Class Texas City HS – Spaghetti Salad 
DESCRIPTION:Youth from Texas City HS will practice their knife skills and using the microwave to make a Spaghetti Salad. They will review the steps before starting the cooking process\, gather and measure ingredients\, and clean up directions. Participant will get to taste their finished product and take home a copy of the step-by-step recipe (including clean-up directions) if wanted. This will enable the individual to be better equipped for independently using a knife and the microwave to make a Lunch\, Dinner\, or Side Dish. \n 
URL:http://mhicil.org/event/cooking-class-texas-city-hs-spaghetti-salad/
LOCATION:Texas City High School\, 1431 9th Ave N\, Texas City\, TX\, 77590\, United States
CATEGORIES:Youth Services
ORGANIZER;CN="Darlene Shannon":MAILTO:ils@mhitx.org
END:VEVENT
BEGIN:VEVENT
DTSTART;TZID=America/Chicago:20240515T110000
DTEND;TZID=America/Chicago:20240515T120000
DTSTAMP:20260423T062741
CREATED:20240326T191842Z
LAST-MODIFIED:20240327T155158Z
UID:10000166-1715770800-1715774400@mhicil.org
SUMMARY:Cooking Class LaMarque HS – Spaghetti Salad
DESCRIPTION:Youth from La Marque HS will practice their knife skills and using the microwave to make a Spaghetti Salad. They will review the steps before starting the cooking process\, gather and measure ingredients\, and clean up directions. Participant will get to taste their finished product and take home a copy of the step-by-step recipe (including clean-up directions) if wanted. This will enable the individual to be better equipped for independently using a knife and the microwave to make a Lunch\, Dinner\, or Side Dish. \n 
URL:http://mhicil.org/event/cooking-class-lamarque-hs-spaghetti-salad/
LOCATION:La Marque High School\, 397 Duroux Road\, La\, Marque\, 77568\, United States
CATEGORIES:Youth Services
ORGANIZER;CN="Darlene Shannon":MAILTO:ils@mhitx.org
END:VEVENT
END:VCALENDAR